BEGIN:VCALENDAR
VERSION:2.0
PRODID:-//hacksw/handcal//NONSGML v1.0//EN
BEGIN:VEVENT
DTSTART:20161214T190000
DTEND:20161214T235500
LOCATION:Quartier Français \n3098, 21 de Setiembre \n11300 MONTEVIDEO
ORGANIZER;CN=Etienne Aubert:MAILTO:etienneaubert.pro@gmail.com
SUMMARY:Afterwork Club VIE Uruguay
DESCRIPTION:\nTroisième et dernier événement Club VIE Uruguay de l'année 2016... nous vous attendons nombreux au Quartier Français!\n
URL:https://www.clubvie.fr/fr/event/afterwork-club-vie-uruguay/2016/12/14/947
BEGIN:VALARM
TRIGGER:-P0DT1H0M0S
ACTION:DISPLAY
END:VALARM
END:VEVENT
END:VCALENDAR