BEGIN:VCALENDAR
VERSION:2.0
PRODID:-//hacksw/handcal//NONSGML v1.0//EN
BEGIN:VEVENT
DTSTART:20161026T103000
DTEND:20161026T140000
LOCATION:Marktwirtschaft \nSiebensterngasse 21, 1070, Vienne \n1070 Wien
ORGANIZER;CN=Silvine Silvine Gagnat:MAILTO:silvine.gagnat@live.fr
SUMMARY:Brunch avec le Club VIE !
DESCRIPTION:Le Club VIE est heureux de vous inviter à un brunch le 26 octobre matin dans un des endroits de Vienne les plus branchés du moment: le Marktwirtschaft.\nQUAND: 26 octobre, à 10h30\nOU:...
URL:https://www.clubvie.fr/fr/event/brunch-avec-le-club-vie/2016/10/26/879
BEGIN:VALARM
TRIGGER:-P0DT1H0M0S
ACTION:DISPLAY
END:VALARM
END:VEVENT
END:VCALENDAR