BEGIN:VCALENDAR
VERSION:2.0
PRODID:-//hacksw/handcal//NONSGML v1.0//EN
BEGIN:VEVENT
DTSTART:20160317T190000
DTEND:20160317T220000
LOCATION:Ambassade de France a prague
ORGANIZER;CN=Fabrice Contrel:MAILTO:fcontrel.jemba2008@london.edu
SUMMARY:Rencontrez Michel Fleischmann, CEO d Evropa 2 - Frekvence 1
DESCRIPTION:Venez rencontrer et discuter avec le patron d'Europe 2 et de Frekvence 1 en Republique Tcheque.\nL evenement se tiendra a l Ambassade de France. Au programme :\n- Courte presentation du club VIE /...
URL:https://www.clubvie.fr/fr/event/rencontrez-michel-fleischmann-ceo-d-evropa-2-frekvence-1/2016/03/17/637
BEGIN:VALARM
TRIGGER:-P0DT1H0M0S
ACTION:DISPLAY
END:VALARM
END:VEVENT
END:VCALENDAR