BEGIN:VCALENDAR
VERSION:2.0
PRODID:-//hacksw/handcal//NONSGML v1.0//EN
BEGIN:VEVENT
DTSTART:20140918T183000
DTEND:20140918T200000
LOCATION:Thesaurus Aix en Provence; Parc de la Duranne \n235, Rue Louis de Broglie \n13290 AIX-EN-PROVENCE
ORGANIZER;CN=Loic Bonnardel:MAILTO:l.bonnardel@clubvie.fr
SUMMARY:WELCOME BACK TO FRANCE
DESCRIPTION:Vous venez tout juste de rentrer en France après votre VIE ou votre expatriation, vous vous posez des questions sur la fiscalité et souhaitez commencer à vous constituer un patrimoine en France ?\nLe ...
URL:https://www.clubvie.fr/fr/event/welcome-back-to-france/2014/09/18/53
BEGIN:VALARM
TRIGGER:-P0DT1H0M0S
ACTION:DISPLAY
END:VALARM
END:VEVENT
END:VCALENDAR