BEGIN:VCALENDAR
VERSION:2.0
PRODID:-//hacksw/handcal//NONSGML v1.0//EN
BEGIN:VEVENT
DTSTART:20150329T100000
DTEND:20150329T160000
LOCATION:Schönbrunn, Vienne, Autriche
ORGANIZER;CN=Arianna Olivero:MAILTO:arianna.olivero@gmail.com
SUMMARY:Chasse aux Oeufs à Schönbrunn !
DESCRIPTION:\n
URL:https://www.clubvie.fr/fr/event/chasse-aux-oeufs-a-schonbrunn/2015/03/29/375
BEGIN:VALARM
TRIGGER:-P0DT1H0M0S
ACTION:DISPLAY
END:VALARM
END:VEVENT
END:VCALENDAR