BEGIN:VCALENDAR
VERSION:2.0
PRODID:-//hacksw/handcal//NONSGML v1.0//EN
BEGIN:VEVENT
DTSTART:20150517T090000
DTEND:20150517T150000
LOCATION:Lille \nDépart Gare Lille Europe \n59000 LILLE
ORGANIZER;CN=Olivier TONON:MAILTO:oliviertonon@yahoo.fr
SUMMARY:Course à pieds La Route du Louvre - 17 mai 2015
DESCRIPTION:\nLa route du Louvre, marathon entre Lille et Lens, fête ses 10 ans !\nLe Club V.I.E Nord Pas de Calais vous propose de représenter ses couleurs haut et fort en participant à la course la plus...
URL:https://www.clubvie.fr/fr/event/course-a-pieds-la-route-du-louvre-17-mai-2015/2015/05/17/347
BEGIN:VALARM
TRIGGER:-P0DT1H0M0S
ACTION:DISPLAY
END:VALARM
END:VEVENT
END:VCALENDAR