BEGIN:VCALENDAR
VERSION:2.0
PRODID:-//hacksw/handcal//NONSGML v1.0//EN
BEGIN:VEVENT
DTSTART:20260523T143000Z
DTEND:20260523T163000Z
LOCATION:Staropramen Visitor Center \nPivovarská \n150 00 Prague
ORGANIZER;CN=Guillaume Le Guidec - Club V.I.E - République Tchèque:MAILTO:guillaume.leguidec@gmail.com
SUMMARY:Visite & Dégustation :beer: Brasserie Staropramen
DESCRIPTION:Prochaine sortie du club : visite de la brasserie Staropramen, l'une des brasseries les plus connues de Prague, installée à Smíchov depuis 1869. Au programme, une visite guidée des installations...
URL:https://www.clubvie.fr/fr/group/club-v-i-e-republique-tcheque/221/calendar/visite-degustation-beer-brasserie-staropramen/2026/05/23/3411
BEGIN:VALARM
TRIGGER:-P0DT1H0M0S
ACTION:DISPLAY
END:VALARM
END:VEVENT
END:VCALENDAR