BEGIN:VCALENDAR
VERSION:2.0
PRODID:-//hacksw/handcal//NONSGML v1.0//EN
BEGIN:VEVENT
DTSTART:20260512T170000Z
DTEND:20260512T220000Z
LOCATION:Le Chauve Qui Rit \n29, Rue de Maubeuge \n75009 PARIS
ORGANIZER;CN=Florent HEMMERLE:MAILTO:florent.hemmerle@itech.fr
SUMMARY:Afterwork jeux de société :puzzle_piece: :game_die: - Mardi  12 mai
DESCRIPTION:Chers membres,Le Club V.I.E Île-de-France vous convie à une soirée jeux de société placée sous le signe de la convivialité et du partage !\nRejoignez-nous pour un moment détendu où stratégie, rires et...
URL:https://www.clubvie.fr/fr/event/afterwork-jeux-de-societe-puzzle-piece-game-die-mardi-12-mai/2026/05/12/3409
BEGIN:VALARM
TRIGGER:-P0DT1H0M0S
ACTION:DISPLAY
END:VALARM
END:VEVENT
END:VCALENDAR