BEGIN:VCALENDAR
VERSION:2.0
PRODID:-//hacksw/handcal//NONSGML v1.0//EN
BEGIN:VEVENT
DTSTART:20260506T163000Z
DTEND:20260506T180000Z
LOCATION:Business France Belgique \n38, Rue de la Loi \n1040 BRUXELLES
ORGANIZER;CN=Mathias Degenne - Club V.I.E - Belgique:MAILTO:degenne.mathias@gmail.com
SUMMARY:#1 Table ronde : Industrial Accelerator Act
DESCRIPTION:\nLe Club VIE Belgique, en partenariat avec Business France et les CCE, vous propose une table ronde sur un sujet stratégique au cœur de l’actualité européenne : l’Industrial Accelerator Act...
URL:https://www.clubvie.fr/fr/group/club-v-i-e-belgique/129/calendar/-1-table-ronde-industrial-accelerator-act/2026/05/06/3407
BEGIN:VALARM
TRIGGER:-P0DT1H0M0S
ACTION:DISPLAY
END:VALARM
END:VEVENT
END:VCALENDAR