BEGIN:VCALENDAR
VERSION:2.0
PRODID:-//hacksw/handcal//NONSGML v1.0//EN
BEGIN:VEVENT
DTSTART:20260519T170000Z
DTEND:20260519T193000Z
LOCATION:Allemagne
ORGANIZER;CN=Tatiana Dijoux:MAILTO:tatianadijouxpro@gmail.com
SUMMARY:SAVE THE DATE - Soirée Carrière Club NRW
DESCRIPTION:En ce printemps 2026, le Club V.I.E a le plaisir de vous annoncer de la prochaine soirée carrière du Bundesland NRW.\nMoment idéal pour rencontrer des professionels aux carrières internationales,...
URL:https://www.clubvie.fr/fr/event/save-the-date-soiree-carriere-club-nrw/2026/05/19/3402
BEGIN:VALARM
TRIGGER:-P0DT1H0M0S
ACTION:DISPLAY
END:VALARM
END:VEVENT
END:VCALENDAR