BEGIN:VCALENDAR
VERSION:2.0
PRODID:-//hacksw/handcal//NONSGML v1.0//EN
BEGIN:VEVENT
DTSTART:20260430T183000Z
DTEND:20260430T225500Z
LOCATION:Carmo Rooftop \nLargo do Carmo \n1200-092 LISBOA
ORGANIZER;CN=Laura Dugas de Baudan:MAILTO:laura.debaudan@gmail.com
SUMMARY:Afterwork d'Avril
DESCRIPTION:Olà todos !\nNous vous donnons rendez-vous pour le prochain afterwork au Carmo Rooftop 🍻Au programme : couché de soleil, des verres et possibilité d'étendre la soirée en boîte 🕺🏻\n📍Carmo rooftop,...
URL:https://www.clubvie.fr/fr/event/afterwork-d-avril/2026/04/30/3401
BEGIN:VALARM
TRIGGER:-P0DT1H0M0S
ACTION:DISPLAY
END:VALARM
END:VEVENT
END:VCALENDAR