BEGIN:VCALENDAR
VERSION:2.0
PRODID:-//hacksw/handcal//NONSGML v1.0//EN
BEGIN:VEVENT
DTSTART:20260312T120000Z
DTEND:20260312T130000Z
LOCATION:https://teams.microsoft.com/meet/39450183302951?p=PO4P5lLAYxcKHKLUs3
ORGANIZER;CN=Julien Panouillot:MAILTO:j.panouillot@clubvie.fr
SUMMARY:Powerlunch #9 - Tour du monde de l'engagement au travail
DESCRIPTION:[POWERLUNCH]Nous avons le plaisir de vous annoncer la 9ᵉ édition des Rendez-vous Powerlunch des Experts CCE organisée avec les CCE.🗓️ Rendez-vous le 12 mars, de 13h00 à 13h45 (CET)📍 En ligne –...
URL:https://www.clubvie.fr/fr/event/powerlunch-9-tour-du-monde-de-l-engagement-au-travail/2026/03/12/3362
BEGIN:VALARM
TRIGGER:-P0DT1H0M0S
ACTION:DISPLAY
END:VALARM
END:VEVENT
END:VCALENDAR