BEGIN:VCALENDAR
VERSION:2.0
PRODID:-//hacksw/handcal//NONSGML v1.0//EN
BEGIN:VEVENT
DTSTART:20260310T130000Z
DTEND:20260310T150000Z
LOCATION:https://event.apec.fr/fr/preparer-son-retour-de-vie-via-1
ORGANIZER;CN=Julien Panouillot:MAILTO:j.panouillot@clubvie.fr
SUMMARY:Webinaire - Préparer son retour de V.I.E/V.I.A
DESCRIPTION:👉 Vous terminez ou avez vécu une expérience internationale en tant que V.I.E/A et vous interrogez sur la meilleure manière de valoriser cette expérience dès votre retour en France ? Ne manquez pas le ...
URL:https://www.clubvie.fr/fr/event/webinaire-preparer-son-retour-de-v-i-e-v-i-a/2026/03/10/3353
BEGIN:VALARM
TRIGGER:-P0DT1H0M0S
ACTION:DISPLAY
END:VALARM
END:VEVENT
END:VCALENDAR