BEGIN:VCALENDAR
VERSION:2.0
PRODID:-//hacksw/handcal//NONSGML v1.0//EN
BEGIN:VEVENT
DTSTART:20230314T183000
DTEND:20230314T230000
LOCATION:BPI France \n8, Boulevard Haussmann \n75009 PARIS
ORGANIZER;CN=Philippe Nguyen:MAILTO:philippe.nguyen.5@gmail.com
SUMMARY:Soirée Carrière Paris-Île-De-France le 14/03/23 à la BPI France dans le 9ème!
DESCRIPTION:Chers membres,\nPour la première fois, la soirée carrières du Club V.I.E Chapter Île-De-France se tiendra chez notre partenaire BPI France. \nRendez-vous le mardi 14 Mars 2023 à 18h30 au 8 Boulevard...
URL:https://www.clubvie.fr/fr/event/soiree-carriere-paris-ile-de-france-le-14-03-23-a-la-bpi-france-dans-le-9eme/2023/03/14/2448
BEGIN:VALARM
TRIGGER:-P0DT1H0M0S
ACTION:DISPLAY
END:VALARM
END:VEVENT
END:VCALENDAR