BEGIN:VCALENDAR
VERSION:2.0
PRODID:-//hacksw/handcal//NONSGML v1.0//EN
BEGIN:VEVENT
DTSTART:20201006T193000
DTEND:20201006T210000
LOCATION:A l'Aise Breizh Café \n4 rue du Commerce \n56000 Vannes
ORGANIZER;CN=Bénédicte Rio:MAILTO:benedicte.rio@gmail.com
SUMMARY:Vannes - 06/10 - Rencontre entre anciens V.I.
DESCRIPTION:Réunion informelle entre anciens V.I. à Vannes pour échanger sur nos expériences passées à l'international et faire de nouvelles rencontres professionnelles et amicales.
URL:https://www.clubvie.fr/fr/event/vannes-06-10-rencontre-entre-anciens-v-i/2020/10/06/2137
BEGIN:VALARM
TRIGGER:-P0DT1H0M0S
ACTION:DISPLAY
END:VALARM
END:VEVENT
END:VCALENDAR