BEGIN:VCALENDAR
VERSION:2.0
PRODID:-//hacksw/handcal//NONSGML v1.0//EN
BEGIN:VEVENT
DTSTART:20200212T190000
DTEND:20200212T230000
LOCATION:Le Troquet \nBudapest, Dráva u. 6 \n1133 Budapest
ORGANIZER;CN=Clement CASTEL:MAILTO:clementcastel@ymail.com
SUMMARY:AfterWork VIE - Le Troquet - 12/02/2020
DESCRIPTION:\nBonjour tout le monde,\nEtant encore le 29, je vous souhaites à toutes et à tous une excellente année. \nPour ce début, nous avons pensé à 3 choses importantes: - se revoir! - connecter avec les...
URL:https://www.clubvie.fr/fr/event/afterwork-vie-le-troquet-12-02-2020/2020/02/12/2064
BEGIN:VALARM
TRIGGER:-P0DT1H0M0S
ACTION:DISPLAY
END:VALARM
END:VEVENT
END:VCALENDAR