BEGIN:VCALENDAR
VERSION:2.0
PRODID:-//hacksw/handcal//NONSGML v1.0//EN
BEGIN:VEVENT
DTSTART:20190327T183000
DTEND:20190327T223000
LOCATION:Stuttgart, restaurant Fais Dodo
ORGANIZER;CN=Coralie Besson - Club V.I.E - Allemagne:MAILTO:besson.coralie@hotmail.fr
SUMMARY:Stammtisch Stuttgart 27.03.2019
DESCRIPTION:Charlotte Liethen nous fera le plaisir de sa présence !Wir freuen uns :)Antoine et Coralie
URL:https://www.clubvie.fr/fr/group/club-v-i-e-allemagne/57/calendar/stammtisch-stuttgart-27-03-2019/2019/03/27/1889
BEGIN:VALARM
TRIGGER:-P0DT1H0M0S
ACTION:DISPLAY
END:VALARM
END:VEVENT
END:VCALENDAR