BEGIN:VCALENDAR
VERSION:2.0
PRODID:-//hacksw/handcal//NONSGML v1.0//EN
BEGIN:VEVENT
DTSTART:20181218T190000
DTEND:20181218T230000
LOCATION:Les Boucaniers \nAvenue du Tribunal-Fédéral \n1005 LAUSANNE
ORGANIZER;CN=Melissa Oriol - Club V.I.E - Suisse:MAILTO:melissa.oriol@gmail.com
SUMMARY:LAUSANNE - Afterwork de fin d'année - Mardi 18 décembre
DESCRIPTION:Après plusieurs mois de calme, le Club V.I.E Lausanne vous convie à un afterwork le mardi 18  décembre 2018 à partir de 19 h !\nRendez-vous au bar :LES BOUCANIERSAvenue Tribunal Fédéral 2 / 1005...
URL:https://www.clubvie.fr/fr/group/club-v-i-e-suisse/61/calendar/lausanne-afterwork-de-fin-d-annee-mardi-18-decembre/2018/12/18/1823
BEGIN:VALARM
TRIGGER:-P0DT1H0M0S
ACTION:DISPLAY
END:VALARM
END:VEVENT
END:VCALENDAR