BEGIN:VCALENDAR
VERSION:2.0
PRODID:-//hacksw/handcal//NONSGML v1.0//EN
BEGIN:VEVENT
DTSTART:20170914T070000
DTEND:20170914T100000
LOCATION:Bouchon Phnom Penh
ORGANIZER;CN=Borin Pin:MAILTO:borinpin@gmail.com
SUMMARY:Club V.I.E Cambodge - Pinte avec le directeur de Business France
DESCRIPTION:\nMatthieu LEFORT, directeur régional Cambodge/Vietnam de Business France et basé à Hanoi, sera comme l'année dernière, de nouveau de passage à Phnom Penh en septembre. \nToujours dans cette optique...
URL:https://www.clubvie.fr/fr/event/club-v-i-e-cambodge-pinte-avec-le-directeur-de-business-france/2017/09/14/1335
BEGIN:VALARM
TRIGGER:-P0DT1H0M0S
ACTION:DISPLAY
END:VALARM
END:VEVENT
END:VCALENDAR