BEGIN:VCALENDAR
VERSION:2.0
PRODID:-//hacksw/handcal//NONSGML v1.0//EN
BEGIN:VEVENT
DTSTART:20170516T190000
DTEND:20170516T220000
LOCATION:Le 153 \n153, Rue Saint-Martin \n75003 PARIS
ORGANIZER;CN=Martin FAYE - Club V.I.E - FRANCE - Île de France:MAILTO:martin.faye@gadz.org
SUMMARY:Paris - Afterwork Mensuel Club V.I.E / UFE au 153
DESCRIPTION:\nLe Club V.I.E Ile de France vous convie à son Afterwork mensuel, en partenariat avec l'UFE Île de France.\nEn instance de départ ou de retour d'expatriation, échangez à propos de vos...
URL:https://www.clubvie.fr/fr/group/club-v-i-e-france-ile-de-france/63/calendar/paris-afterwork-mensuel-club-v-i-e-ufe-au-153/2017/05/16/1119
BEGIN:VALARM
TRIGGER:-P0DT1H0M0S
ACTION:DISPLAY
END:VALARM
END:VEVENT
END:VCALENDAR